BEGIN:VCALENDAR
VERSION:2.0
PRODID:-//Great British UK Talent - Live - ECPv6.15.20//NONSGML v1.0//EN
CALSCALE:GREGORIAN
METHOD:PUBLISH
X-WR-CALNAME:Great British UK Talent - Live
X-ORIGINAL-URL:https://greatbritishvoices.co.uk
X-WR-CALDESC:Events for Great British UK Talent - Live
REFRESH-INTERVAL;VALUE=DURATION:PT1H
X-Robots-Tag:noindex
X-PUBLISHED-TTL:PT1H
BEGIN:VTIMEZONE
TZID:UTC
BEGIN:STANDARD
TZOFFSETFROM:+0000
TZOFFSETTO:+0000
TZNAME:UTC
DTSTART:20260101T000000
END:STANDARD
END:VTIMEZONE
BEGIN:VEVENT
DTSTART;VALUE=DATE:20270101
DTEND;VALUE=DATE:20270201
DTSTAMP:20260423T172323
CREATED:20221105T104612Z
LAST-MODIFIED:20221105T104612Z
UID:30858-1798761600-1801439999@greatbritishvoices.co.uk
SUMMARY:Dry January Speakers at GREAT BRITISH SPEAKERS
DESCRIPTION:Dry January Speakers: Find Addiction and Wellness Speakers for Dry January\nWhy  Participate in Dry January?\nDry January UK sees adults up and down the country giving up alcohol for the month of January. \nOfficially starting in 2013 with 4\,000 participants\, it has grown exponentially with 2022 seeing 130\,000 take part. \nDry January was founded in 2013 by Emily Robinson who  stopped drinking alcohol in 2011 in preparation for first half marathon run.  Soon after Emily started working for Alcohol Change UK\, and again gave up alcohol during January as a way to feel better after the Christmas period.  But now that she worked for Alcohol Change UK\, she found herself being asked to speak about her own experience and ‘Dry January’ was born. \nWith famous names such as journalists Alastair Campbell and Peter Osborne on board\, the campaign grew and grew\, and continues to attract more participants every year to become healthier\, but also assist to bring awareness and help those looking overcome alcoholism / addiction issues. \n  \nFind inspirational Dry January Speakers\nAt Great British Speakers\, we work alongside some of the country’s best physical and mental health and well-being speakers\, some of whom have their own personal experiences of alcohol dependency and addiction. \n \n\nDry January Speakers – Lauren Windle\nLauren Windle is a journalist\, author and public speaker specialising in addictions. Working as an event and marketing executive in the City of London during her 20s\, Lauren developed a love for cocaine and alcohol which quickly spiraled into an addiction. \nIn 2014\, she got clean and became sober and put her life back together. She now runs a recovery course for others who also struggle with unmanageable behaviours. \nThe course has seen many people recover from addictions to substances\, food\, alcohol\, gambling\, sex\, pornography and co-dependency\, amongst others. Lauren is one of the ideal motivational\, Dry January speakers. \n  \n\n\n\nDry January Speakers – Mandy Saligari\nMandy is the founder and clinical director of Charter\, one of London’s leading outpatient clinics specialising in private addiction treatment. Having recovered from addiction herself\, Mandy understands first-hand the difficulties of overcoming addiction. \nShe now runs group workshops and hosts interventions and lectures on the subject in an attempt to help others also overcome their addictions. Mandy is also passionate about dispelling the social stigma attached to mental health and holds regular talks at schools on early intervention\, addiction\, emotional coping mechanisms and self-esteem. \n  \nContact us Great British Speakers for a personalised shortlist of mental health and addiction specialists available for Dry January Events.\n  \nLEARN MORE\n Dry January.  \n\nDry January\nAlcohol Change | Dry January for Workplaces\nSupport Your Employees This Dry January\nPact HR | Dry January & Alcohol\n\n  \nTo book the best Dry January speakers\, contact Great British Speakers’ Jane Farnham and Steve Denison at +44 1753 439 289 or email bookings@greatbritishtalent.com
URL:https://greatbritishvoices.co.uk/event/dry-january-speakers/2027-01-01/
ATTACH;FMTTYPE=image/jpeg:https://greatbritish.b-cdn.net/wp-content//uploads/2022/11/Dry-January-UK-find-the-best-speakers-at-speaker-agent-Great-British-Speakers.jpg
END:VEVENT
BEGIN:VEVENT
DTSTART;VALUE=DATE:20280101
DTEND;VALUE=DATE:20280201
DTSTAMP:20260423T172323
CREATED:20221105T104612Z
LAST-MODIFIED:20221105T104612Z
UID:32748-1830297600-1832975999@greatbritishvoices.co.uk
SUMMARY:Dry January Speakers at GREAT BRITISH SPEAKERS
DESCRIPTION:Dry January Speakers: Find Addiction and Wellness Speakers for Dry January\nWhy  Participate in Dry January?\nDry January UK sees adults up and down the country giving up alcohol for the month of January. \nOfficially starting in 2013 with 4\,000 participants\, it has grown exponentially with 2022 seeing 130\,000 take part. \nDry January was founded in 2013 by Emily Robinson who  stopped drinking alcohol in 2011 in preparation for first half marathon run.  Soon after Emily started working for Alcohol Change UK\, and again gave up alcohol during January as a way to feel better after the Christmas period.  But now that she worked for Alcohol Change UK\, she found herself being asked to speak about her own experience and ‘Dry January’ was born. \nWith famous names such as journalists Alastair Campbell and Peter Osborne on board\, the campaign grew and grew\, and continues to attract more participants every year to become healthier\, but also assist to bring awareness and help those looking overcome alcoholism / addiction issues. \n  \nFind inspirational Dry January Speakers\nAt Great British Speakers\, we work alongside some of the country’s best physical and mental health and well-being speakers\, some of whom have their own personal experiences of alcohol dependency and addiction. \n \n\nDry January Speakers – Lauren Windle\nLauren Windle is a journalist\, author and public speaker specialising in addictions. Working as an event and marketing executive in the City of London during her 20s\, Lauren developed a love for cocaine and alcohol which quickly spiraled into an addiction. \nIn 2014\, she got clean and became sober and put her life back together. She now runs a recovery course for others who also struggle with unmanageable behaviours. \nThe course has seen many people recover from addictions to substances\, food\, alcohol\, gambling\, sex\, pornography and co-dependency\, amongst others. Lauren is one of the ideal motivational\, Dry January speakers. \n  \n\n\n\nDry January Speakers – Mandy Saligari\nMandy is the founder and clinical director of Charter\, one of London’s leading outpatient clinics specialising in private addiction treatment. Having recovered from addiction herself\, Mandy understands first-hand the difficulties of overcoming addiction. \nShe now runs group workshops and hosts interventions and lectures on the subject in an attempt to help others also overcome their addictions. Mandy is also passionate about dispelling the social stigma attached to mental health and holds regular talks at schools on early intervention\, addiction\, emotional coping mechanisms and self-esteem. \n  \nContact us Great British Speakers for a personalised shortlist of mental health and addiction specialists available for Dry January Events.\n  \nLEARN MORE\n Dry January.  \n\nDry January\nAlcohol Change | Dry January for Workplaces\nSupport Your Employees This Dry January\nPact HR | Dry January & Alcohol\n\n  \nTo book the best Dry January speakers\, contact Great British Speakers’ Jane Farnham and Steve Denison at +44 1753 439 289 or email bookings@greatbritishtalent.com
URL:https://greatbritishvoices.co.uk/event/dry-january-speakers/2028-01-01/
ATTACH;FMTTYPE=image/jpeg:https://greatbritish.b-cdn.net/wp-content//uploads/2022/11/Dry-January-UK-find-the-best-speakers-at-speaker-agent-Great-British-Speakers.jpg
END:VEVENT
END:VCALENDAR