BEGIN:VCALENDAR
VERSION:2.0
PRODID:-//Great British UK Talent - Live - ECPv6.15.20//NONSGML v1.0//EN
CALSCALE:GREGORIAN
METHOD:PUBLISH
X-WR-CALNAME:Great British UK Talent - Live
X-ORIGINAL-URL:https://greatbritishvoices.co.uk
X-WR-CALDESC:Events for Great British UK Talent - Live
REFRESH-INTERVAL;VALUE=DURATION:PT1H
X-Robots-Tag:noindex
X-PUBLISHED-TTL:PT1H
BEGIN:VTIMEZONE
TZID:UTC
BEGIN:STANDARD
TZOFFSETFROM:+0000
TZOFFSETTO:+0000
TZNAME:UTC
DTSTART:20240101T000000
END:STANDARD
END:VTIMEZONE
BEGIN:VEVENT
DTSTART;VALUE=DATE:20251001
DTEND;VALUE=DATE:20251101
DTSTAMP:20260423T162248
CREATED:20221105T162132Z
LAST-MODIFIED:20250302T124529Z
UID:17661-1759276800-1761955199@greatbritishvoices.co.uk
SUMMARY:Breast Cancer Awareness Month
DESCRIPTION:Breast Cancer Awareness Month\nWhy acknowledge Breast Cancer Awareness Month?\n1 in 7 females in the UK will be diagnosed with breast cancer at some point in their lifetime\, and while rare\, there are around 390 men diagnosed annually in the UK. \nBreast Cancer Awareness Month aims to unite people worldwide in support of those affected by breast cancer. While the occasion can be difficult for some\, it also fosters a sense of community\, promotes education\, raises funds\, and helps reduce the stigma surrounding the disease. \nHiring an inspirational breast cancer awareness speaker is a meaningful way for businesses and health event organisers to engage audiences\, encourage early detection\, and provide a supportive community for those who have experienced or have a loved one who has experienced cancer firsthand.   Our inspirational speakers share personal stories and expert insights\, fostering understanding and motivation. \nBy hiring a workplace wellness Cancer awareness speaker\, businesses can enhance workplace wellness initiatives\, encourage preventive care\, and demonstrate a commitment to corporate social responsibility\, creating a more supportive and informed work environment. \n  \nFind Inspirational Breast Cancer Awareness Month Speakers\nAt Great British Speakers\, we’ve worked hard to secure a team of professional expert breast cancer awareness month speakers – female health and wellness speakers who all have personal\, heartfelt reasons why cancer awareness is such a vital topic of conversation for them. So\, if you’re running an event for Breast Cancer Awareness Month or any health and wellness event this year\, our cancer awareness speakers at Great British Speakers are here to help. \nSearch all of our Cancer Awareness Speakers\n  \nFeatured Speakers – Louise McMilan\nWith over 30 years of experience\, Louise McMilan has had a successful career in HR and Recruitment for companies including North Somerset Council\, First Great Western Railway\, Ofsted\, UK-SH\, Clarks\, Capita\, Unit4 Business Software\, Refresco Gerber\, Bristol Airport\, Redhall Group\, Rotork\, Central Facilities Group\, and Purple House Recruitment. She took a career break in 2017 after being diagnosed with breast cancer; Louise found her self-worth and her passion for helping others manage their mental health. Learn more about Louise McMilan here. \n \n  \nRelated Articles\n\nSupporting Women’s Health in the Workplace\nOvercoming Adversity with Cancer Awareness Speaker Clive Branson\n\nCancer Awareness Speakers: Health Experts & Survivors. \n \n  \nListen to the Podcast!\n \nChats with some of the UK’s leading Speakers… \nWelcome to the Great British Speakers Podcast Series\, where we connect you with the UK’s top keynote speakers\, business leaders\, athletes\, mental health advocates\, and more. Each episode offers valuable insights and key takeaways\, highlighting the benefits of hiring a Great British Speaker for your next event. With diverse topics like mental health\, equality\, business\, and leadership\, there’s something for everyone. \n  \nHire Breast Cancer Awareness Month Speakers\nIf you’re holding an event for Breast Cancer Awareness Month and would like to hire an inspirational some Breast Cancer Awareness Month Speaker to share their story\, or perhaps a medical expert to hold a talk on the signs and symptoms or how to cope with a diagnosis\, then do get in touch with us at Great British Speakers by emailing Jane Farnham and Steve Denison at bookings@greatbritishtalent.com or call +44 1753 439 289 to speak to a member of the team.
URL:https://greatbritishvoices.co.uk/event/breast-cancer-speakers/2025-10-01/
ATTACH;FMTTYPE=image/jpeg:https://greatbritish.b-cdn.net/wp-content//uploads/2022/11/Breast-Cancer-Awareness-Month-Speakers-Find-the-best-top-speaker-book-at-Great-British-Speakers.jpg
END:VEVENT
END:VCALENDAR